BEGIN:VCALENDAR
VERSION:2.0
PRODID:icalendar-ruby
CALSCALE:GREGORIAN
METHOD:PUBLISH
BEGIN:VEVENT
DTSTAMP:20260422T115711Z
UID:11-481655@housesallisaw.com
DTSTART:20260918T000000Z
DTEND:20260918T010000Z
CLASS:PUBLIC
CREATED:20260422T063749
DESCRIPTION:This is our mid-week service where we come together as a family
 /body and hear the Word and activate it in our lives. 
LAST-MODIFIED:20260422T063749
LOCATION:
SUMMARY:Mid-Week Service
URL;VALUE=URI:https://www.housesallisaw.com/events/mid-week-service/2026-09
 -17
ATTACH;FILENAME=Midweek-Service.png;FMTTYPE=image/png:https://dq5pwpg1q8ru0
 .cloudfront.net/2023/11/25/19/51/31/23d6f5d4-7da1-4796-9ca9-fcb989a8e68c/M
 idweek-Service.png
END:VEVENT
END:VCALENDAR
