BEGIN:VCALENDAR
VERSION:2.0
PRODID:icalendar-ruby
CALSCALE:GREGORIAN
METHOD:PUBLISH
BEGIN:VEVENT
DTSTAMP:20260422T103335Z
UID:13-481464@housesallisaw.com
DTSTART:20260917T000000Z
DTEND:20260917T010000Z
CLASS:PUBLIC
CREATED:20260421T193520
DESCRIPTION:Wednesday's are reserved for kids and youth! Kids ages 4 throug
 h 6th grade come together and they get to partake in worship\, games/objec
 t lessons\, and receive a Word from the Lord! There is a meal served each 
 week at 6:30pm for them as well. Our mission is to see them activated in t
 heir relationship with Christ and to have real encounters with Him each we
 ek. Youth ages are 7th through 12th grade and they get to come together an
 d have real encounters and grow closer with the Lord while connecting as a
  family of believers.
LAST-MODIFIED:20260421T193520
LOCATION:Kingdom Builders AOG
SUMMARY:Wednesday Kidz & Youth
URL;VALUE=URI:https://www.housesallisaw.com/events/wednesday-kidz-youth/202
 6-09-16
ATTACH;FILENAME=Kingdom-Builders.png;FMTTYPE=image/png:https://dq5pwpg1q8ru
 0.cloudfront.net/2023/11/25/19/47/41/5637c909-08f5-44a9-ae1e-5d6c5bdc06a4/
 Kingdom-Builders.png
END:VEVENT
END:VCALENDAR
